BEGIN:VCALENDAR
VERSION:2.0
PRODID:-//CONTACT of Ocean &amp; Monmouth County - ECPv4.6.14.1//NONSGML v1.0//EN
CALSCALE:GREGORIAN
METHOD:PUBLISH
X-WR-CALNAME:CONTACT of Ocean &amp; Monmouth County
X-ORIGINAL-URL:https://contactoceanmonmouth.org
X-WR-CALDESC:Events for CONTACT of Ocean &amp; Monmouth County
BEGIN:VEVENT
DTSTART;TZID=UTC+0:20260516T110000
DTEND;TZID=UTC+0:20260516T150000
DTSTAMP:20260425T123956
CREATED:20260115T203743Z
LAST-MODIFIED:20260410T190705Z
UID:651-1778929200-1778943600@contactoceanmonmouth.org
SUMMARY:39th ANNUAL SPRING LUNCHEON & GIFT AUCTION
DESCRIPTION:The 39th ANNUAL SPRING LUNCHEON & GIFT AUCTION\nSaturday\, MAY 16\, 2026\nSpring Lake Manor\n415 NJ-71\, Spring Lake\, NJ 07762\nPlease join us at the 39th Annual Spring Luncheon & Gift Auction hosted by CONTACT of Ocean & Monmouth Counties – our BIGGEST FUNDRAISER OF THE YEAR!  \nThe GIFT AUCTION ROOM will feature a huge selection of quality gift baskets\, gift certificates\, door prizes\, etc. \nThe admission price of $75 includes a 3-course lunch AND auction tickets valued at $5. \n~~~~~~~~~~~~~~~~~~~~~~~~~~~~~~~~~~~~~~~~~~~~~~~~~~ \nPlease EMAIL your choice of entrée to contact@contactoceanmonmouth.org \nSELECT ONE ENTREE: \nPenne Vodka OR \nChicken Francaise OR \nGrilled Salmon OR \nFlank Steak Marsala \n~~~~~~~~~~~~~~~~~~~~~~~~~~~~~~~~~~~~~ \nIF ATTENDING WITH OTHER GUESTS\, PLEASE LET US KNOW \nWITH WHOM YOU WOULD LIKE TO BE SEATED. \nOR\, IF ATTENDING SOLO\, JUST LET US KNOW! \n~~~~~~~~~~~~~~~~~~~~~~~~~~~~~~~~~~~~~~~~ \nTo purchase tickets\, Mail checks to CONTACT\, P.O. BOX 1121\, TOMS RIVER\, NJ 08754  \nOr purchase online at: https://2026SpringLuncheon.eventbrite.com \nOr Scan   \n  \n~~~~~~~~~~~~~~~~~~~~~~~~~~~~~~~~~~~~~~~~ \nDoors open 11:00am to browse our fabulous gift selection! \nAlso available both before and during the event will be our JUMBO 50/50 raffle tickets ($5.00 each). Please call the office\, 732-240-6104\, if you would like us to mail you 50/50’s prior to the event. \n~~~~~~~~~~~~~~~~~~~~~~~~~~~~~~~~~~~~~~~~ \nPLEASE NOTE: On May 16th\, day of event\, ONLY CASH OR CREDIT CARDS WILL BE ACCEPTED \nProceeds benefit CONTACT’s 24/7 Crisis Intervention & Suicide Prevention Helpline. \nMust be 18 or older to attend. ALL SALES FINAL. \nLicense # RL-2026-17 \nThank you for your support! \n  \n  \n\n
URL:https://contactoceanmonmouth.org/event/39th-annual-spring-luncheon-gift-auction/
LOCATION:415 Highway 71\, Spring Lake\, NJ\, 07762
END:VEVENT
END:VCALENDAR