BEGIN:VCALENDAR
VERSION:2.0
PRODID:-//CONTACT of Ocean &amp; Monmouth County - ECPv4.6.14.1//NONSGML v1.0//EN
CALSCALE:GREGORIAN
METHOD:PUBLISH
X-WR-CALNAME:CONTACT of Ocean &amp; Monmouth County
X-ORIGINAL-URL:https://contactoceanmonmouth.org
X-WR-CALDESC:Events for CONTACT of Ocean &amp; Monmouth County
BEGIN:VEVENT
DTSTART;TZID=UTC+0:20211020T173000
DTEND;TZID=UTC+0:20211020T213000
DTSTAMP:20260421T133901
CREATED:20210811T130705Z
LAST-MODIFIED:20210910T194934Z
UID:283-1634751000-1634765400@contactoceanmonmouth.org
SUMMARY:PSYCHIC NIGHT - SAVE THE DATE!!!!
DESCRIPTION:SAVE THE DATE – PSYCHIC NIGHT!\nWEDNESDAY\, OCTOBER 20\, 2021\nTWO SEATING OPTIONS\, PLEASE CHOOSE ONE:\nOPTION 1 – 5:30 – 7:30PM\nOR\nOPTION 2 – 7:30-9:30pm\nCaptain’s Inn\, 304 E. Lacey Road\, Forked River\, NJ 08731\nA card reading on the night of the Full Moon by a professional psychic and a glove service buffet is included with your ticket price of $60 each per seating. There will be a Cash Bar.\nAt each session\, there will be a mini gift auction to test your luck! Each evening session will end with the calling of a 50/50 winner!\nThere will be 2 separate seatings: Option 1: 5:30 – 7:30 pm OR Option 2: 7:30 – 9:30 pm. Please be sure to tell us which seating you prefer mailto:contact@contactoceanmonmouth.org or phone 732-240-6104.\nPurchase your tickets online https://www.eventbrite.com/e/psychic-night-tickets-170046027245 \nor mail your check to CONTACT\, P.O. BOX 1121\, Toms River\, NJ 08754\nBring your friends for what promises to be an evening of fun & mysterious discoveries. \n\n\n  \n
URL:https://contactoceanmonmouth.org/event/psychic-night-save-the-date/
LOCATION:304 E. Lacey Road\, Forked River\, NJ\, 08731\, United States
END:VEVENT
END:VCALENDAR