BEGIN:VCALENDAR
VERSION:2.0
PRODID:-//CONTACT of Ocean &amp; Monmouth County - ECPv4.6.14.1//NONSGML v1.0//EN
CALSCALE:GREGORIAN
METHOD:PUBLISH
X-WR-CALNAME:CONTACT of Ocean &amp; Monmouth County
X-ORIGINAL-URL:https://contactoceanmonmouth.org
X-WR-CALDESC:Events for CONTACT of Ocean &amp; Monmouth County
BEGIN:VEVENT
DTSTART;VALUE=DATE:20181005
DTEND;VALUE=DATE:20181006
DTSTAMP:20260421T175545
CREATED:20180508T114138Z
LAST-MODIFIED:20181009T172643Z
UID:76-1538697600-1538783999@contactoceanmonmouth.org
SUMMARY:Designer Handbag Bingo
DESCRIPTION:Games will be held at the Toms River Elks Lodge #1875 600 Washington Street\, Toms River\, NJ 08753 \nDoors open 5:00PM – Games Begin at 7:00PM \nFood\, Dessert & Non-alcoholic Beverages available for purchase \nThe Elks’ Menu: \nHamburgers\, Cheeseburgers\, Veggie Burgers\, Chicken Fingers & Hot Dogs \nFood from the outside will not be allowed in. \n  \nPlease consider joining us for an evening that promises to be fun & fabulous! \nTO PURCHASE TICKETS ON LINE PLEASE SEE LINK BELOW: \n https://www.eventbrite.com/e/designer-handbag-bingo-tickets-49864818013 \nor simply mail your ticket request with check payable to \nCONTACT\, P.O. BOX 1121\, TOMS RIVER\, NJ 08754 \nQuestions\, please call 732-240-6104 or email contactofoceanco@aol.com \nMust be 18 or older to attend. License# BL-8509 \n
URL:https://contactoceanmonmouth.org/event/designer-handbag-bingo/
LOCATION:TOMS RIVER\, NJ\, United States
CATEGORIES:FUNDRAISERS
END:VEVENT
END:VCALENDAR